BEGIN:VCALENDAR
VERSION:2.0
PRODID:-//Tukios.com/
BEGIN:VEVENT
UID:65eefbae-2fe1-400c-a67a-2a7e498c9d66@www.dependablemortuaryservices.com
DTSTAMP:20260424T110649Z
DTSTART:20260425T210000Z
DTEND:20260425T230000Z
SUMMARY:Viewing
DESCRIPTION:
URL:https://www.dependablemortuaryservices.com/obituaries/ofelia-godinet
LOCATION: 4948 Eisenhauer Rd  San Antonio TX 78218
GEO:29.4961404;-98.3934535
END:VEVENT
END:VCALENDAR